BEGIN:VCALENDAR
VERSION:2.0
PRODID:-//Tukios.com/
BEGIN:VEVENT
UID:9d3dfb3c-6b26-48c8-94f9-e57f46c037a7@www.meachamfuneralservice.com
DTSTAMP:20260423T160653Z
DTSTART:20260516T170000Z
DTEND:20260516T190000Z
SUMMARY:Visitation
DESCRIPTION:
URL:https://www.meachamfuneralservice.com/obituaries/cynthia-bates
LOCATION: 648 W State St  Albany IN 47320
GEO:40.2999553;-85.2441298
END:VEVENT
END:VCALENDAR