BEGIN:VCALENDAR
VERSION:2.0
PRODID:-//Tukios.com/
BEGIN:VEVENT
UID:74150f87-12d9-4825-ada7-eb2e82b32d48@www.meachamfuneralservice.com
DTSTAMP:20260423T160454Z
DTSTART:20260516T190000Z
DTEND:20260516T200000Z
SUMMARY:Celebration of Life
DESCRIPTION:
URL:https://www.meachamfuneralservice.com/obituaries/cynthia-bates
LOCATION: 648 W State St  Albany IN 47320
GEO:40.2999553;-85.2441298
END:VEVENT
END:VCALENDAR